BEGIN:VCALENDAR
METHOD:PUBLISH
VERSION:2.0
PRODID:-//Eventilla iCal Syndication//NONSGML Liana//EN
BEGIN:VEVENT
UID:mog0G@eventilla.com
DTSTAMP:20210915T100000Z
DTSTART:20210915T100000Z
DTEND:20210915T131500Z
SUMMARY:Design Forum Talk Online loves Circular Economy* 2021
LOCATION:
URL:http://events.designforum.fi/event/mog0G
END:VEVENT
END:VCALENDAR
